Package: GNOSIS Version: 1.2.0 Command: /Library/Frameworks/R.framework/Resources/bin/R CMD build --keep-empty-dirs --no-resave-data GNOSIS StartedAt: 2024-10-17 01:37:15 -0400 (Thu, 17 Oct 2024) EndedAt: 2024-10-17 01:38:58 -0400 (Thu, 17 Oct 2024) EllapsedTime: 102.6 seconds RetCode: 0 Status: OK PackageFile: GNOSIS_1.2.0.tar.gz PackageFileSize: 3.374 MiB