Package: GOSemSim Version: 2.30.0 Command: /Library/Frameworks/R.framework/Resources/bin/R CMD build --keep-empty-dirs --no-resave-data GOSemSim StartedAt: 2024-06-09 22:25:35 -0400 (Sun, 09 Jun 2024) EndedAt: 2024-06-09 22:26:10 -0400 (Sun, 09 Jun 2024) EllapsedTime: 34.7 seconds RetCode: 0 Status: OK PackageFile: GOSemSim_2.30.0.tar.gz PackageFileSize: 593.4 KiB