Package: GOSemSim Version: 2.30.0 Command: /home/biocbuild/R/R-beta-2024-04-15_r86425/bin/R CMD build --keep-empty-dirs --no-resave-data GOSemSim StartedAt: 2024-05-09 00:42:52 -0000 (Thu, 09 May 2024) EndedAt: 2024-05-09 00:43:31 -0000 (Thu, 09 May 2024) EllapsedTime: 39.0 seconds RetCode: 0 Status: OK PackageFile: GOSemSim_2.30.0.tar.gz PackageFileSize: 594.8 KiB