Package: GOSemSim Version: 2.30.0 Command: /Library/Frameworks/R.framework/Resources/bin/R CMD build --keep-empty-dirs --no-resave-data GOSemSim StartedAt: 2024-06-09 16:50:04 -0400 (Sun, 09 Jun 2024) EndedAt: 2024-06-09 16:50:31 -0400 (Sun, 09 Jun 2024) EllapsedTime: 26.8 seconds RetCode: 0 Status: OK PackageFile: GOSemSim_2.30.0.tar.gz PackageFileSize: 593.5 KiB