Package: GOSemSim Version: 2.30.2 Command: /Library/Frameworks/R.framework/Resources/bin/R CMD check --install=check:GOSemSim.install-out.txt --library=/Library/Frameworks/R.framework/Resources/library --no-vignettes --timings GOSemSim_2.30.2.tar.gz StartedAt: 2024-10-17 06:13:48 -0400 (Thu, 17 Oct 2024) EndedAt: 2024-10-17 06:19:31 -0400 (Thu, 17 Oct 2024) EllapsedTime: 342.3 seconds RetCode: 0 Status: OK CheckDir: GOSemSim.Rcheck Warnings: 0