Package: GOSemSim Version: 2.30.2 Command: /home/biocbuild/bbs-3.19-bioc/R/bin/R CMD build --keep-empty-dirs --no-resave-data GOSemSim StartedAt: 2024-10-16 18:47:54 -0400 (Wed, 16 Oct 2024) EndedAt: 2024-10-16 18:48:18 -0400 (Wed, 16 Oct 2024) EllapsedTime: 24.0 seconds RetCode: 0 Status: OK PackageFile: GOSemSim_2.30.2.tar.gz PackageFileSize: 595.1 KiB