Package: GOSemSim Version: 2.30.0 Command: F:\biocbuild\bbs-3.19-bioc\R\bin\R.exe CMD INSTALL GOSemSim StartedAt: 2024-06-26 16:00:19 -0400 (Wed, 26 Jun 2024) EndedAt: 2024-06-26 16:01:00 -0400 (Wed, 26 Jun 2024) EllapsedTime: 40.9 seconds RetCode: 0 Status: OK