Package: GOSemSim Version: 2.30.2 Command: rm -rf GOSemSim.buildbin-libdir && mkdir GOSemSim.buildbin-libdir && E:\biocbuild\bbs-3.19-bioc\R\bin\R.exe CMD INSTALL --build --library=GOSemSim.buildbin-libdir GOSemSim_2.30.2.tar.gz StartedAt: 2024-10-17 07:54:29 -0400 (Thu, 17 Oct 2024) EndedAt: 2024-10-17 07:55:04 -0400 (Thu, 17 Oct 2024) EllapsedTime: 35.6 seconds RetCode: 0 Status: OK PackageFile: GOSemSim_2.30.2.zip PackageFileSize: 1.447 MiB