Package: GOpro Version: 1.30.0 Command: rm -rf GOpro.buildbin-libdir && mkdir GOpro.buildbin-libdir && /Users/biocbuild/BBS/utils/build-universal.sh GOpro_1.30.0.tar.gz /Library/Frameworks/R.framework/Resources/bin/R GOpro.buildbin-libdir StartedAt: 2024-10-18 18:46:58 -0400 (Fri, 18 Oct 2024) EndedAt: 2024-10-18 18:47:47 -0400 (Fri, 18 Oct 2024) EllapsedTime: 48.6 seconds RetCode: 0 Status: OK PackageFile: GOpro_1.30.0.tgz PackageFileSize: 1.45 MiB