Package: GOpro Version: 1.30.0 Command: /Library/Frameworks/R.framework/Resources/bin/R CMD build --keep-empty-dirs --no-resave-data GOpro StartedAt: 2024-10-17 01:38:44 -0400 (Thu, 17 Oct 2024) EndedAt: 2024-10-17 01:40:03 -0400 (Thu, 17 Oct 2024) EllapsedTime: 78.9 seconds RetCode: 0 Status: OK PackageFile: GOpro_1.30.0.tar.gz PackageFileSize: 1.055 MiB