Package: GOpro Version: 1.30.0 Command: /home/biocbuild/R/R-beta-2024-04-15_r86425/bin/R CMD build --keep-empty-dirs --no-resave-data GOpro StartedAt: 2024-05-09 00:42:26 -0000 (Thu, 09 May 2024) EndedAt: 2024-05-09 00:43:58 -0000 (Thu, 09 May 2024) EllapsedTime: 92.1 seconds RetCode: 0 Status: OK PackageFile: GOpro_1.30.0.tar.gz PackageFileSize: 833.2 KiB