Package: GOpro Version: 1.30.0 Command: rm -rf GOpro.buildbin-libdir && mkdir GOpro.buildbin-libdir && /Users/biocbuild/BBS/utils/build-universal.sh GOpro_1.30.0.tar.gz /Library/Frameworks/R.framework/Resources/bin/R GOpro.buildbin-libdir StartedAt: 2024-06-10 00:20:49 -0400 (Mon, 10 Jun 2024) EndedAt: 2024-06-10 00:21:40 -0400 (Mon, 10 Jun 2024) EllapsedTime: 50.9 seconds RetCode: 0 Status: OK PackageFile: GOpro_1.30.0.tgz PackageFileSize: 1.454 MiB