Package: GOpro Version: 1.30.0 Command: /Library/Frameworks/R.framework/Resources/bin/R CMD build --keep-empty-dirs --no-resave-data GOpro StartedAt: 2024-06-09 16:49:50 -0400 (Sun, 09 Jun 2024) EndedAt: 2024-06-09 16:51:02 -0400 (Sun, 09 Jun 2024) EllapsedTime: 72.0 seconds RetCode: 0 Status: OK PackageFile: GOpro_1.30.0.tar.gz PackageFileSize: 1.055 MiB