Package: GOpro Version: 1.30.0 Command: /Library/Frameworks/R.framework/Resources/bin/R CMD check --install=check:GOpro.install-out.txt --library=/Library/Frameworks/R.framework/Resources/library --no-vignettes --timings GOpro_1.30.0.tar.gz StartedAt: 2024-06-09 20:43:12 -0400 (Sun, 09 Jun 2024) EndedAt: 2024-06-09 20:47:12 -0400 (Sun, 09 Jun 2024) EllapsedTime: 240.1 seconds RetCode: 0 Status: OK CheckDir: GOpro.Rcheck Warnings: 0