Package: GOpro Version: 1.30.0 Command: /home/biocbuild/bbs-3.19-bioc/R/bin/R CMD build --keep-empty-dirs --no-resave-data GOpro StartedAt: 2024-10-16 18:47:39 -0400 (Wed, 16 Oct 2024) EndedAt: 2024-10-16 18:48:43 -0400 (Wed, 16 Oct 2024) EllapsedTime: 63.1 seconds RetCode: 0 Status: OK PackageFile: GOpro_1.30.0.tar.gz PackageFileSize: 987.8 KiB