Package: GRENITS Version: 1.56.0 Command: rm -rf GRENITS.buildbin-libdir && mkdir GRENITS.buildbin-libdir && /Users/biocbuild/BBS/utils/build-universal.sh GRENITS_1.56.0.tar.gz /Library/Frameworks/R.framework/Resources/bin/R GRENITS.buildbin-libdir StartedAt: 2024-10-18 18:49:30 -0400 (Fri, 18 Oct 2024) EndedAt: 2024-10-18 18:51:02 -0400 (Fri, 18 Oct 2024) EllapsedTime: 91.8 seconds RetCode: 0 Status: OK PackageFile: GRENITS_1.56.0.tgz PackageFileSize: 529.4 KiB