Package: GRENITS Version: 1.56.0 Command: /home/biocbuild/R/R-beta-2024-04-15_r86425/bin/R CMD build --keep-empty-dirs --no-resave-data GRENITS StartedAt: 2024-05-09 00:47:48 -0000 (Thu, 09 May 2024) EndedAt: 2024-05-09 00:50:52 -0000 (Thu, 09 May 2024) EllapsedTime: 184.2 seconds RetCode: 0 Status: OK PackageFile: GRENITS_1.56.0.tar.gz PackageFileSize: 260.9 KiB