Package: GRENITS Version: 1.56.0 Command: /Library/Frameworks/R.framework/Resources/bin/R CMD check --install=check:GRENITS.install-out.txt --library=/Library/Frameworks/R.framework/Resources/library --no-vignettes --timings GRENITS_1.56.0.tar.gz StartedAt: 2024-06-09 20:45:51 -0400 (Sun, 09 Jun 2024) EndedAt: 2024-06-09 20:49:35 -0400 (Sun, 09 Jun 2024) EllapsedTime: 224.3 seconds RetCode: 0 Status: OK CheckDir: GRENITS.Rcheck Warnings: 0