Package: GRENITS Version: 1.56.0 Command: rm -rf GRENITS.buildbin-libdir && mkdir GRENITS.buildbin-libdir && /Users/biocbuild/BBS/utils/build-universal.sh GRENITS_1.56.0.tar.gz /Library/Frameworks/R.framework/Resources/bin/R GRENITS.buildbin-libdir StartedAt: 2024-10-17 16:18:55 -0400 (Thu, 17 Oct 2024) EndedAt: 2024-10-17 16:22:12 -0400 (Thu, 17 Oct 2024) EllapsedTime: 196.7 seconds RetCode: 0 Status: OK PackageFile: GRENITS_1.56.0.tgz PackageFileSize: 576.8 KiB