Package: GRENITS Version: 1.56.0 Command: /Library/Frameworks/R.framework/Resources/bin/R CMD check --install=check:GRENITS.install-out.txt --library=/Library/Frameworks/R.framework/Resources/library --no-vignettes --timings GRENITS_1.56.0.tar.gz StartedAt: 2024-10-17 06:21:51 -0400 (Thu, 17 Oct 2024) EndedAt: 2024-10-17 06:29:26 -0400 (Thu, 17 Oct 2024) EllapsedTime: 455.2 seconds RetCode: 0 Status: OK CheckDir: GRENITS.Rcheck Warnings: 0