Package: GRENITS Version: 1.56.0 Command: /home/biocbuild/bbs-3.19-bioc/R/bin/R CMD build --keep-empty-dirs --no-resave-data GRENITS StartedAt: 2024-10-16 18:50:54 -0400 (Wed, 16 Oct 2024) EndedAt: 2024-10-16 18:52:27 -0400 (Wed, 16 Oct 2024) EllapsedTime: 93.2 seconds RetCode: 0 Status: OK PackageFile: GRENITS_1.56.0.tar.gz PackageFileSize: 149.2 KiB