Package: GRENITS Version: 1.56.0 Command: chmod a+r GRENITS -R && F:\biocbuild\bbs-3.19-bioc\R\bin\R.exe CMD build --keep-empty-dirs --no-resave-data GRENITS StartedAt: 2024-06-26 19:20:11 -0400 (Wed, 26 Jun 2024) EndedAt: 2024-06-26 19:22:43 -0400 (Wed, 26 Jun 2024) EllapsedTime: 152.7 seconds RetCode: 0 Status: OK PackageFile: GRENITS_1.56.0.tar.gz PackageFileSize: 151.1 KiB