Package: GRENITS Version: 1.56.0 Command: F:\biocbuild\bbs-3.19-bioc\R\bin\R.exe CMD check --no-multiarch --install=check:GRENITS.install-out.txt --library=F:\biocbuild\bbs-3.19-bioc\R\library --no-vignettes --timings GRENITS_1.56.0.tar.gz StartedAt: 2024-06-27 02:21:45 -0400 (Thu, 27 Jun 2024) EndedAt: 2024-06-27 02:25:19 -0400 (Thu, 27 Jun 2024) EllapsedTime: 213.5 seconds RetCode: 0 Status: OK CheckDir: GRENITS.Rcheck Warnings: 0