Package: GRaNIE Version: 1.8.0 Command: /Library/Frameworks/R.framework/Resources/bin/R CMD INSTALL GRaNIE StartedAt: 2024-10-16 17:00:32 -0400 (Wed, 16 Oct 2024) EndedAt: 2024-10-16 17:01:30 -0400 (Wed, 16 Oct 2024) EllapsedTime: 58.0 seconds RetCode: 0 Status: OK