Package: GRaNIE Version: 1.8.0 Command: chmod a+r GRaNIE -R && F:\biocbuild\bbs-3.19-bioc\R\bin\R.exe CMD build --keep-empty-dirs --no-resave-data GRaNIE StartedAt: 2024-06-26 19:18:45 -0400 (Wed, 26 Jun 2024) EndedAt: 2024-06-26 19:23:15 -0400 (Wed, 26 Jun 2024) EllapsedTime: 270.2 seconds RetCode: 0 Status: OK PackageFile: GRaNIE_1.8.0.tar.gz PackageFileSize: 3.745 MiB