Package: GRaNIE Version: 1.8.0 Command: chmod a+r GRaNIE -R && E:\biocbuild\bbs-3.19-bioc\R\bin\R.exe CMD build --keep-empty-dirs --no-resave-data GRaNIE StartedAt: 2024-10-16 19:32:53 -0400 (Wed, 16 Oct 2024) EndedAt: 2024-10-16 19:37:28 -0400 (Wed, 16 Oct 2024) EllapsedTime: 275.2 seconds RetCode: 0 Status: OK PackageFile: GRaNIE_1.8.0.tar.gz PackageFileSize: 3.751 MiB