Package: GRmetrics Version: 1.30.0 Command: /Library/Frameworks/R.framework/Resources/bin/R CMD check --install=check:GRmetrics.install-out.txt --library=/Library/Frameworks/R.framework/Resources/library --no-vignettes --timings GRmetrics_1.30.0.tar.gz StartedAt: 2024-10-17 06:22:03 -0400 (Thu, 17 Oct 2024) EndedAt: 2024-10-17 06:27:12 -0400 (Thu, 17 Oct 2024) EllapsedTime: 309.5 seconds RetCode: 0 Status: OK CheckDir: GRmetrics.Rcheck Warnings: 0