Package: GRmetrics Version: 1.30.0 Command: chmod a+r GRmetrics -R && E:\biocbuild\bbs-3.19-bioc\R\bin\R.exe CMD build --keep-empty-dirs --no-resave-data GRmetrics StartedAt: 2024-10-16 19:34:05 -0400 (Wed, 16 Oct 2024) EndedAt: 2024-10-16 19:35:09 -0400 (Wed, 16 Oct 2024) EllapsedTime: 63.6 seconds RetCode: 0 Status: OK PackageFile: GRmetrics_1.30.0.tar.gz PackageFileSize: 1.617 MiB