Package: GSAR Version: 1.38.0 Command: /home/biocbuild/R/R-beta-2024-04-15_r86425/bin/R CMD check --install=check:GSAR.install-out.txt --library=/home/biocbuild/R/R-beta-2024-04-15_r86425/site-library --no-vignettes --timings GSAR_1.38.0.tar.gz StartedAt: 2024-05-09 08:08:28 -0000 (Thu, 09 May 2024) EndedAt: 2024-05-09 08:09:12 -0000 (Thu, 09 May 2024) EllapsedTime: 44.1 seconds RetCode: 0 Status: OK CheckDir: GSAR.Rcheck Warnings: 0