Package: GSAR Version: 1.38.0 Command: rm -rf GSAR.buildbin-libdir && mkdir GSAR.buildbin-libdir && F:\biocbuild\bbs-3.19-bioc\R\bin\R.exe CMD INSTALL --build --library=GSAR.buildbin-libdir GSAR_1.38.0.tar.gz StartedAt: 2024-06-27 08:19:33 -0400 (Thu, 27 Jun 2024) EndedAt: 2024-06-27 08:19:48 -0400 (Thu, 27 Jun 2024) EllapsedTime: 15.0 seconds RetCode: 0 Status: OK PackageFile: GSAR_1.38.0.zip PackageFileSize: 3.527 MiB