Package: GSEABenchmarkeR Version: 1.24.0 Command: /Library/Frameworks/R.framework/Resources/bin/R CMD build --keep-empty-dirs --no-resave-data GSEABenchmarkeR StartedAt: 2024-10-17 01:57:32 -0400 (Thu, 17 Oct 2024) EndedAt: 2024-10-17 02:00:29 -0400 (Thu, 17 Oct 2024) EllapsedTime: 176.9 seconds RetCode: 0 Status: OK PackageFile: GSEABenchmarkeR_1.24.0.tar.gz PackageFileSize: 570.9 KiB