Package: GSEABenchmarkeR Version: 1.24.0 Command: /home/biocbuild/bbs-3.19-bioc/R/bin/R CMD INSTALL GSEABenchmarkeR StartedAt: 2024-10-16 16:08:49 -0400 (Wed, 16 Oct 2024) EndedAt: 2024-10-16 16:09:09 -0400 (Wed, 16 Oct 2024) EllapsedTime: 20.0 seconds RetCode: 0 Status: OK