Package: GWAS.BAYES Version: 1.14.0 Command: /Library/Frameworks/R.framework/Resources/bin/R CMD check --install=check:GWAS.BAYES.install-out.txt --library=/Library/Frameworks/R.framework/Resources/library --no-vignettes --timings GWAS.BAYES_1.14.0.tar.gz StartedAt: 2024-10-18 00:07:13 -0400 (Fri, 18 Oct 2024) EndedAt: 2024-10-18 00:08:42 -0400 (Fri, 18 Oct 2024) EllapsedTime: 88.7 seconds RetCode: 0 Status: OK CheckDir: GWAS.BAYES.Rcheck Warnings: 0