Package: GWAS.BAYES Version: 1.14.0 Command: /home/biocbuild/R/R-beta-2024-04-15_r86425/bin/R CMD build --keep-empty-dirs --no-resave-data GWAS.BAYES StartedAt: 2024-05-09 00:51:24 -0000 (Thu, 09 May 2024) EndedAt: 2024-05-09 00:55:26 -0000 (Thu, 09 May 2024) EllapsedTime: 241.4 seconds RetCode: 0 Status: OK PackageFile: GWAS.BAYES_1.14.0.tar.gz PackageFileSize: 1.394 MiB