Package: GWAS.BAYES Version: 1.14.0 Command: /Library/Frameworks/R.framework/Resources/bin/R CMD build --keep-empty-dirs --no-resave-data GWAS.BAYES StartedAt: 2024-10-16 19:52:25 -0400 (Wed, 16 Oct 2024) EndedAt: 2024-10-16 20:00:10 -0400 (Wed, 16 Oct 2024) EllapsedTime: 464.8 seconds RetCode: 0 Status: OK PackageFile: GWAS.BAYES_1.14.0.tar.gz PackageFileSize: 1.346 MiB