Package: GWAS.BAYES Version: 1.14.0 Command: /home/biocbuild/bbs-3.19-bioc/R/bin/R CMD build --keep-empty-dirs --no-resave-data GWAS.BAYES StartedAt: 2024-10-16 18:53:19 -0400 (Wed, 16 Oct 2024) EndedAt: 2024-10-16 18:56:04 -0400 (Wed, 16 Oct 2024) EllapsedTime: 165.3 seconds RetCode: 0 Status: OK PackageFile: GWAS.BAYES_1.14.0.tar.gz PackageFileSize: 1.346 MiB