Package: GWAS.BAYES Version: 1.14.0 Command: chmod a+r GWAS.BAYES -R && F:\biocbuild\bbs-3.19-bioc\R\bin\R.exe CMD build --keep-empty-dirs --no-resave-data GWAS.BAYES StartedAt: 2024-06-26 19:24:05 -0400 (Wed, 26 Jun 2024) EndedAt: 2024-06-26 19:28:36 -0400 (Wed, 26 Jun 2024) EllapsedTime: 270.8 seconds RetCode: 0 Status: OK PackageFile: GWAS.BAYES_1.14.0.tar.gz PackageFileSize: 1.346 MiB