Package: GWAS.BAYES Version: 1.14.0 Command: rm -rf GWAS.BAYES.buildbin-libdir && mkdir GWAS.BAYES.buildbin-libdir && E:\biocbuild\bbs-3.19-bioc\R\bin\R.exe CMD INSTALL --build --library=GWAS.BAYES.buildbin-libdir GWAS.BAYES_1.14.0.tar.gz StartedAt: 2024-10-17 07:55:49 -0400 (Thu, 17 Oct 2024) EndedAt: 2024-10-17 07:56:10 -0400 (Thu, 17 Oct 2024) EllapsedTime: 20.5 seconds RetCode: 0 Status: OK PackageFile: GWAS.BAYES_1.14.0.zip PackageFileSize: 2.009 MiB