Package: GWASTools Version: 1.50.0 Command: /Library/Frameworks/R.framework/Resources/bin/R CMD check --install=check:GWASTools.install-out.txt --library=/Library/Frameworks/R.framework/Resources/library --no-vignettes --timings GWASTools_1.50.0.tar.gz StartedAt: 2024-10-18 00:12:46 -0400 (Fri, 18 Oct 2024) EndedAt: 2024-10-18 00:18:12 -0400 (Fri, 18 Oct 2024) EllapsedTime: 326.2 seconds RetCode: 0 Status: OK CheckDir: GWASTools.Rcheck Warnings: 0