Package: GWASTools Version: 1.50.0 Command: /Library/Frameworks/R.framework/Resources/bin/R CMD check --install=check:GWASTools.install-out.txt --library=/Library/Frameworks/R.framework/Resources/library --no-vignettes --timings GWASTools_1.50.0.tar.gz StartedAt: 2024-06-10 18:07:39 -0400 (Mon, 10 Jun 2024) EndedAt: 2024-06-10 18:15:56 -0400 (Mon, 10 Jun 2024) EllapsedTime: 497.3 seconds RetCode: 0 Status: OK CheckDir: GWASTools.Rcheck Warnings: 0