Package: GWASTools Version: 1.50.0 Command: /Library/Frameworks/R.framework/Resources/bin/R CMD build --keep-empty-dirs --no-resave-data GWASTools StartedAt: 2024-10-16 19:52:46 -0400 (Wed, 16 Oct 2024) EndedAt: 2024-10-16 19:55:10 -0400 (Wed, 16 Oct 2024) EllapsedTime: 144.9 seconds RetCode: 0 Status: OK PackageFile: GWASTools_1.50.0.tar.gz PackageFileSize: 1.937 MiB