Package: GWASTools Version: 1.50.0 Command: chmod a+r GWASTools -R && F:\biocbuild\bbs-3.19-bioc\R\bin\R.exe CMD build --keep-empty-dirs --no-resave-data GWASTools StartedAt: 2024-06-26 19:24:18 -0400 (Wed, 26 Jun 2024) EndedAt: 2024-06-26 19:26:01 -0400 (Wed, 26 Jun 2024) EllapsedTime: 102.7 seconds RetCode: 0 Status: OK PackageFile: GWASTools_1.50.0.tar.gz PackageFileSize: 1.632 MiB