Package: GWASTools Version: 1.50.0 Command: E:\biocbuild\bbs-3.19-bioc\R\bin\R.exe CMD INSTALL GWASTools StartedAt: 2024-10-16 17:05:09 -0400 (Wed, 16 Oct 2024) EndedAt: 2024-10-16 17:06:51 -0400 (Wed, 16 Oct 2024) EllapsedTime: 101.7 seconds RetCode: 0 Status: OK