Package: GWENA Version: 1.14.0 Command: /Library/Frameworks/R.framework/Resources/bin/R CMD check --install=check:GWENA.install-out.txt --library=/Library/Frameworks/R.framework/Resources/library --no-vignettes --timings GWENA_1.14.0.tar.gz StartedAt: 2024-06-10 18:09:13 -0400 (Mon, 10 Jun 2024) EndedAt: 2024-06-10 18:25:51 -0400 (Mon, 10 Jun 2024) EllapsedTime: 998.2 seconds RetCode: 0 Status: WARNINGS CheckDir: GWENA.Rcheck Warnings: 2