Package: GWENA Version: 1.14.0 Command: E:\biocbuild\bbs-3.19-bioc\R\bin\R.exe CMD INSTALL GWENA StartedAt: 2024-10-16 16:55:34 -0400 (Wed, 16 Oct 2024) EndedAt: 2024-10-16 16:56:17 -0400 (Wed, 16 Oct 2024) EllapsedTime: 42.7 seconds RetCode: 0 Status: OK