Package: GeDi Version: 1.0.1 Command: /Library/Frameworks/R.framework/Resources/bin/R CMD INSTALL GeDi StartedAt: 2024-10-16 17:39:37 -0400 (Wed, 16 Oct 2024) EndedAt: 2024-10-16 17:40:20 -0400 (Wed, 16 Oct 2024) EllapsedTime: 42.6 seconds RetCode: 0 Status: OK