Package: GeDi Version: 1.0.0 Command: /Library/Frameworks/R.framework/Resources/bin/R CMD build --keep-empty-dirs --no-resave-data GeDi StartedAt: 2024-06-09 16:44:01 -0400 (Sun, 09 Jun 2024) EndedAt: 2024-06-09 16:46:20 -0400 (Sun, 09 Jun 2024) EllapsedTime: 138.4 seconds RetCode: 0 Status: OK PackageFile: GeDi_1.0.0.tar.gz PackageFileSize: 3.404 MiB