Package: GeDi Version: 1.0.1 Command: /Library/Frameworks/R.framework/Resources/bin/R CMD build --keep-empty-dirs --no-resave-data GeDi StartedAt: 2024-10-16 19:25:25 -0400 (Wed, 16 Oct 2024) EndedAt: 2024-10-16 19:30:34 -0400 (Wed, 16 Oct 2024) EllapsedTime: 309.4 seconds RetCode: 0 Status: OK PackageFile: GeDi_1.0.1.tar.gz PackageFileSize: 3.404 MiB