Package: GeDi Version: 1.0.1 Command: /Library/Frameworks/R.framework/Resources/bin/R CMD INSTALL GeDi StartedAt: 2024-10-16 16:11:59 -0400 (Wed, 16 Oct 2024) EndedAt: 2024-10-16 16:13:21 -0400 (Wed, 16 Oct 2024) EllapsedTime: 81.2 seconds RetCode: 0 Status: OK