Package: GeDi Version: 1.0.1 Command: /home/biocbuild/bbs-3.19-bioc/R/bin/R CMD build --keep-empty-dirs --no-resave-data GeDi StartedAt: 2024-10-16 18:36:44 -0400 (Wed, 16 Oct 2024) EndedAt: 2024-10-16 18:38:57 -0400 (Wed, 16 Oct 2024) EllapsedTime: 133.3 seconds RetCode: 0 Status: OK PackageFile: GeDi_1.0.1.tar.gz PackageFileSize: 3.404 MiB